BEGIN:VCALENDAR
VERSION:2.0
PRODID:-//Grimedia//Event Calendar//EN
CALSCALE:GREGORIAN
METHOD:PUBLISH
BEGIN:VEVENT
UID:67636c8b-4d7e-437f-b29e-c1d9eb93dc7e@https://gri.media
DTSTAMP:20260420T055920Z
SUMMARY:La prevenzione del cancro salva vite – anche nei Grigioni
DESCRIPTION:Conferenza pubblica con gli specialisti Dr. med. Gianfranco Zala e Dr. med. Carlo Pansoni
LOCATION:Caffetteria dell’Ospedale San Sisto\,  Poschiavo\, Svizzera
URL:https://ilbernina.ch/eventi/la-prevenzione-del-cancro-salva-vite-anche-nei-grigioni
DTSTART;VALUE=DATE:20260507
DTEND;VALUE=DATE:20260508
END:VEVENT
END:VCALENDAR